BEGIN:VCALENDAR
VERSION:2.0
CALSCALE:GREGORIAN
PRODID:-//calendarserver.org//Zonal//EN
BEGIN:VTIMEZONE
TZID:Etc/GMT+4
X-LIC-LOCATION:Etc/GMT+4
LAST-MODIFIED:20050809T050000Z
BEGIN:STANDARD
TZOFFSETFROM:-0400
TZOFFSETTO:-0400
TZNAME:AST
DTSTART:19701025T030000
RRULE:FREQ=YEARLY;BYMONTH=10;BYDAY=-1SU
END:STANDARD
END:VTIMEZONE
BEGIN:VEVENT
SUMMARY:A&H Producers Education Conference 2026
DESCRIPTION:We look forward to seeing you at the Swiss Re Corporate Solutions A&H Producers Education Conference 2026 at The Westin St. Thomas Beach Resort & Spa from Monday, May 18 &ndash; Thursday, May 21.<br />\n<br />\nPlease contact our Event Manager, Ashley Poe, with any questions: <a href="mailto:Ashley_Poe@swissre.com" style="color:blue; text-decoration:underline" target="_blank">Ashley_Poe@swissre.com</a><br />\n<br />\nBest,<br />\nSwiss Re Corporate Solutions Accident & Health team\n
X-ALT-DESC;FMTTYPE=text/html:We look forward to seeing you at the Swiss Re Corporate Solutions A&H Producers Education Conference 2026 at The Westin St. Thomas Beach Resort & Spa from Monday, May 18 &ndash; Thursday, May 21.<br />\n<br />\nPlease contact our Event Manager, Ashley Poe, with any questions: <a href="mailto:Ashley_Poe@swissre.com" style="color:blue; text-decoration:underline" target="_blank">Ashley_Poe@swissre.com</a><br />\n<br />\nBest,<br />\nSwiss Re Corporate Solutions Accident & Health team\n
DTSTART;TZID="Etc/GMT+4":20260518T120000
DTEND;TZID="Etc/GMT+4":20260521T120000
LOCATION:5 Estate Bakkeroe St Thomas 00801 U.S. Virgin Islands
STATUS:CONFIRMED
SEQUENCE:0
BEGIN:VALARM
ACTION:NONE
END:VALARM
END:VEVENT
END:VCALENDAR